BEGIN:VCALENDAR
METHOD:PUBLISH
PRODID:-//github.com/rianjs/ical.net//NONSGML ical.net 4.0//EN
VERSION:2.0
X-WR-CALNAME:Skyline PTSA
BEGIN:VEVENT
CREATED:20250924T111743
DESCRIPTION:https://skylineptsa.org/Page/Programs/Community%20Volunteer%20
 Service
DTEND:20260406T191000Z
DTSTAMP:20260423T021629Z
DTSTART:20260406T174000Z
LAST-MODIFIED:20251005T122031
SEQUENCE:0
STATUS:CONFIRMED
SUMMARY:Community Volunteer Service forms collection
TRANSP:TRANSPARENT
UID:144155@ourschoolpages.com
END:VEVENT
END:VCALENDAR
