BEGIN:VCALENDAR
METHOD:PUBLISH
PRODID:-//github.com/rianjs/ical.net//NONSGML ical.net 4.0//EN
VERSION:2.0
X-WR-CALNAME:Skyline PTSA
BEGIN:VEVENT
CREATED:20260319T195330
DESCRIPTION:The last in person collection date is coming up on April 6th\,
  2026 Monday during lunch hours .
DTEND;VALUE=DATE:20260407
DTSTAMP:20260423T021921Z
DTSTART;VALUE=DATE:20260406
LAST-MODIFIED:20260319T195330
SEQUENCE:0
STATUS:CONFIRMED
SUMMARY:Deadline for Community Services Volunteer Forms
TRANSP:TRANSPARENT
UID:145435@ourschoolpages.com
END:VEVENT
END:VCALENDAR
